BEGIN:VCALENDAR
VERSION:2.0
PRODID:-//Intand Corporation//Tandem//EN
METHOD:PUBLISH
BEGIN:VEVENT
DTSTAMP:20260424T123825Z
DTSTART:20220407T213000Z
DTEND:20220408T013000Z
TRANSP:TRANSPARENT
PRIORITY:0
SUMMARY:Tennis\, Varsity-G: Santa Fe HS @ MHS
LOCATION:Manzano High
DESCRIPTION:Groups:\nManzano High Tennis Girls Varsity\n\nSchools:\nSanta 
 Fe High\nManzano High\n\nLocation:\nManzano High\n\n
URL;VALUE=URI:http://shs.albuquerquenmus.tandem.co/index.php?type=view&act
 ion=event&id=99857
CREATED:20220120T163946Z
LAST-MODIFIED:20220120T163946Z
UID:event-99857-albuquerquenmus@intand.com
END:VEVENT
END:VCALENDAR
