BEGIN:VCALENDAR
VERSION:2.0
PRODID:-//Intand Corporation//Tandem//EN
METHOD:PUBLISH
BEGIN:VEVENT
DTSTAMP:20260424T123605Z
DTSTART:20220317T213000Z
DTEND:20220318T013000Z
TRANSP:TRANSPARENT
PRIORITY:0
SUMMARY:Tennis\, Varsity-G: MHS @ WMHS
LOCATION:West Mesa High
DESCRIPTION:Groups:\nManzano High Tennis Girls Varsity\nWest Mesa High Ten
 nis Girls Varsity\n\nSchools:\nManzano High\nWest Mesa High\n\nLocation:\n
 West Mesa High\n\n
URL;VALUE=URI:http://shs.albuquerquenmus.tandem.co/index.php?type=view&act
 ion=event&id=99855
CREATED:20220120T163505Z
LAST-MODIFIED:20220304T013433Z
UID:event-99855-albuquerquenmus@intand.com
END:VEVENT
END:VCALENDAR
