BEGIN:VCALENDAR
VERSION:2.0
PRODID:-//Intand Corporation//Tandem//EN
METHOD:PUBLISH
BEGIN:VEVENT
DTSTAMP:20260424T123524Z
DTSTART:20220407T213000Z
DTEND:20220408T013000Z
TRANSP:TRANSPARENT
PRIORITY:0
SUMMARY:Tennis\, Varsity-G: SHS @ EHS
LOCATION:Eldorado High
DESCRIPTION:Groups:\nSandia High Tennis Girls Varsity\nEldorado High Tenni
 s Girls\n\nSchools:\nSandia High\nEldorado High\n\nLocation:\nEldorado Hig
 h\n\n
URL;VALUE=URI:http://shs.albuquerquenmus.tandem.co/index.php?type=view&act
 ion=event&id=99832
CREATED:20220120T160330Z
LAST-MODIFIED:20220405T200911Z
UID:event-99832-albuquerquenmus@intand.com
END:VEVENT
END:VCALENDAR
