BEGIN:VCALENDAR
VERSION:2.0
PRODID:-//Intand Corporation//Tandem//EN
METHOD:PUBLISH
BEGIN:VEVENT
DTSTAMP:20260424T123802Z
DTSTART:20220411T213000Z
DTEND:20220412T013000Z
TRANSP:TRANSPARENT
PRIORITY:0
SUMMARY:Tennis\, Varsity-G: CHS @ EHS
LOCATION:Eldorado High
DESCRIPTION:Groups:\nEldorado High Tennis Girls\nCibola High Tennis Girls\
 n\nSchools:\nCibola High\nEldorado High\n\nLocation:\nEldorado High\n\n
URL;VALUE=URI:http://shs.albuquerquenmus.tandem.co/index.php?type=view&act
 ion=event&id=99814
CREATED:20220120T154533Z
LAST-MODIFIED:20220318T155640Z
UID:event-99814-albuquerquenmus@intand.com
END:VEVENT
END:VCALENDAR
