BEGIN:VCALENDAR
VERSION:2.0
PRODID:-//Intand Corporation//Tandem//EN
METHOD:PUBLISH
BEGIN:VEVENT
DTSTAMP:20260424T122636Z
DTSTART:20220308T223000Z
DTEND:20220309T023000Z
TRANSP:TRANSPARENT
PRIORITY:0
SUMMARY:Tennis\, Varsity-B: Rio Rancho HS @ EHS
LOCATION:Eldorado High
DESCRIPTION:Groups:\nEldorado High Tennis Boys\n\nSchools:\nEldorado High\
 nRio Rancho High School\n\nLocation:\nEldorado High\n\n
URL;VALUE=URI:http://shs.albuquerquenmus.tandem.co/index.php?type=view&act
 ion=event&id=99724
CREATED:20220119T154347Z
LAST-MODIFIED:20220119T154347Z
UID:event-99724-albuquerquenmus@intand.com
END:VEVENT
END:VCALENDAR
