BEGIN:VCALENDAR
VERSION:2.0
PRODID:-//Intand Corporation//Tandem//EN
METHOD:PUBLISH
BEGIN:VEVENT
DTSTAMP:20260424T123605Z
DTSTART:20220331T213000Z
DTEND:20220401T013000Z
TRANSP:TRANSPARENT
PRIORITY:0
SUMMARY:[Cancelled] Tennis\, Varsity-B: Hope Christian HS @ DNHS
LOCATION:Del Norte High
DESCRIPTION:Groups:\nDel Norte High Tennis Boys\n\nSchools:\nHope Christia
 n\nDel Norte High\n\nLocation:\nDel Norte High\n\n
URL;VALUE=URI:http://shs.albuquerquenmus.tandem.co/index.php?type=view&act
 ion=event&id=99720
CREATED:20220119T154016Z
LAST-MODIFIED:20220210T174330Z
UID:event-99720-albuquerquenmus@intand.com
END:VEVENT
END:VCALENDAR
