BEGIN:VCALENDAR
VERSION:2.0
PRODID:-//Intand Corporation//Tandem//EN
METHOD:PUBLISH
BEGIN:VEVENT
DTSTAMP:20260424T123627Z
DTSTART:20220416T220000Z
DTEND:20220417T000000Z
TRANSP:TRANSPARENT
PRIORITY:0
SUMMARY:Baseball\, JV: WMHS @ Piedra Vista HS
LOCATION:Piedra Vista High
DESCRIPTION:Groups:\nWest Mesa High Baseball Boys JV\n\nSchools:\nWest Mes
 a High\nPiedra Vista High\n\nLocation:\nPiedra Vista High\n\n
URL;VALUE=URI:http://shs.albuquerquenmus.tandem.co/index.php?type=view&act
 ion=event&id=99669
CREATED:20220118T223642Z
LAST-MODIFIED:20220118T223642Z
UID:event-99669-albuquerquenmus@intand.com
END:VEVENT
END:VCALENDAR
