BEGIN:VCALENDAR
VERSION:2.0
PRODID:-//Intand Corporation//Tandem//EN
METHOD:PUBLISH
BEGIN:VEVENT
DTSTAMP:20260424T121558Z
DTSTART:20220409T180000Z
DTEND:20220409T200000Z
TRANSP:TRANSPARENT
PRIORITY:0
SUMMARY:Baseball\, Varsity: WMHS @ Farmington
LOCATION:Farmington High
DESCRIPTION:Groups:\nWest Mesa High Baseball Boys Varsity\n\nSchools:\nWes
 t Mesa High\nFarmington High\n\nLocation:\nFarmington High\n\n
URL;VALUE=URI:http://shs.albuquerquenmus.tandem.co/index.php?type=view&act
 ion=event&id=99314
CREATED:20220113T180648Z
LAST-MODIFIED:20220113T180648Z
UID:event-99314-albuquerquenmus@intand.com
END:VEVENT
END:VCALENDAR
