BEGIN:VCALENDAR
VERSION:2.0
PRODID:-//Intand Corporation//Tandem//EN
METHOD:PUBLISH
BEGIN:VEVENT
DTSTAMP:20260424T121557Z
DTSTART:20210918T010000Z
DTEND:20210918T033000Z
TRANSP:TRANSPARENT
PRIORITY:0
SUMMARY:Football\, Varsity: VVHS @ AHS
LOCATION:Milne Stadium
DESCRIPTION:Groups:\nStadium Use\nVolcano Vista High Football Varsity\nAlb
 uquerque High Football Varsity\n\nSchools:\nAPS Athletic Department\nAlbuq
 uerque High\nVolcano Vista High\n\nLocation:\nMilne Stadium\n\n
URL;VALUE=URI:http://shs.albuquerquenmus.tandem.co/index.php?type=view&act
 ion=event&id=96829
CREATED:20210913T213152Z
LAST-MODIFIED:20210913T213152Z
UID:event-96829-albuquerquenmus@intand.com
END:VEVENT
END:VCALENDAR
