BEGIN:VCALENDAR
VERSION:2.0
PRODID:-//Intand Corporation//Tandem//EN
METHOD:PUBLISH
BEGIN:VEVENT
DTSTAMP:20260424T123824Z
DTSTART:20210901T010000Z
DTEND:20210901T030000Z
TRANSP:TRANSPARENT
PRIORITY:0
SUMMARY:Soccer\, Varsity-G: Albuquerque Metro Championships\; AHS vs Albuq
 uerque Academy
LOCATION:APS Soccer Complex
DESCRIPTION:Groups:\nAlbuquerque High Soccer Girls Varsity\n\nSchools:\nAP
 S Athletic Department\nAlbuquerque High\nAlbuquerque Academy High\n\nLocat
 ion:\nAPS Soccer Complex\n\n
URL;VALUE=URI:http://shs.albuquerquenmus.tandem.co/index.php?type=view&act
 ion=event&id=96662
CREATED:20210829T193840Z
LAST-MODIFIED:20210829T195133Z
UID:event-96662-albuquerquenmus@intand.com
END:VEVENT
END:VCALENDAR
