BEGIN:VCALENDAR
VERSION:2.0
PRODID:-//Intand Corporation//Tandem//EN
METHOD:PUBLISH
BEGIN:VEVENT
DTSTAMP:20260424T123708Z
DTSTART:20210831T223000Z
DTEND:20210901T003000Z
TRANSP:TRANSPARENT
PRIORITY:0
SUMMARY:Soccer\, Varsity-G: Albuquerque Metro Championships\; AHA vs MHS
LOCATION:APS Soccer Complex
DESCRIPTION:Groups:\nManzano High Soccer Girls Varsity\nAtrisco Heritage A
 cademy Soccer Girls Varsity\n\nSchools:\nAPS Athletic Department\nAtrisco 
 Heritage Academy\nManzano High\n\nLocation:\nAPS Soccer Complex\n\n
URL;VALUE=URI:http://shs.albuquerquenmus.tandem.co/index.php?type=view&act
 ion=event&id=96660
CREATED:20210829T193552Z
LAST-MODIFIED:20210829T194932Z
UID:event-96660-albuquerquenmus@intand.com
END:VEVENT
END:VCALENDAR
