BEGIN:VCALENDAR
VERSION:2.0
PRODID:-//Intand Corporation//Tandem//EN
METHOD:PUBLISH
BEGIN:VEVENT
DTSTAMP:20260424T123533Z
DTSTART:20210501T200000Z
DTEND:20210501T213000Z
TRANSP:TRANSPARENT
PRIORITY:0
SUMMARY:Basketball\, Varsity-B: WMHS @ SHS
LOCATION:Sandia High
DESCRIPTION:Groups:\nSandia High Basketball Boys Varsity\nWest Mesa High B
 asketball Boys Varsity\n\nSchools:\nSandia High\nWest Mesa High\n\nLocatio
 n:\nSandia High\n\n
URL;VALUE=URI:http://shs.albuquerquenmus.tandem.co/index.php?type=view&act
 ion=event&id=92939
CREATED:20210324T030505Z
LAST-MODIFIED:20210324T030505Z
UID:event-92939-albuquerquenmus@intand.com
END:VEVENT
END:VCALENDAR
