BEGIN:VCALENDAR
VERSION:2.0
PRODID:-//Intand Corporation//Tandem//EN
METHOD:PUBLISH
BEGIN:VEVENT
DTSTAMP:20260424T123946Z
DTSTART:20221011T010000Z
DTEND:20221011T030000Z
TRANSP:TRANSPARENT
PRIORITY:0
SUMMARY:Football JV Cibola at Rio Rancho
LOCATION:Rio Rancho High School
DESCRIPTION:Groups:\nCibola High Football JV\n\nSchools:\nCibola High\nRio
  Rancho High School\n\nLocation:\nRio Rancho High School\n\n
URL;VALUE=URI:http://shs.albuquerquenmus.tandem.co/index.php?type=view&act
 ion=event&id=102117
CREATED:20220428T154623Z
LAST-MODIFIED:20220428T154623Z
UID:event-102117-albuquerquenmus@intand.com
END:VEVENT
END:VCALENDAR
