BEGIN:VCALENDAR
VERSION:2.0
PRODID:-//Intand Corporation//Tandem//EN
METHOD:PUBLISH
BEGIN:VEVENT
DTSTAMP:20260424T123848Z
DTSTART:20220415T170000Z
DTEND:20220415T190000Z
TRANSP:TRANSPARENT
PRIORITY:0
SUMMARY:Tennis Varsity Girls Eldorado at La Cueva
LOCATION:La Cueva High
DESCRIPTION:Groups:\nLa Cueva High Tennis Girls Varsity\nEldorado High Ten
 nis Girls\n\nSchools:\nLa Cueva High\nEldorado High\n\nLocation:\nLa Cueva
  High\n\n
URL;VALUE=URI:http://shs.albuquerquenmus.tandem.co/index.php?type=view&act
 ion=event&id=102057
CREATED:20220413T171239Z
LAST-MODIFIED:20220413T171239Z
UID:event-102057-albuquerquenmus@intand.com
END:VEVENT
END:VCALENDAR
