BEGIN:VCALENDAR
VERSION:2.0
PRODID:-//Intand Corporation//Tandem//EN
METHOD:PUBLISH
BEGIN:VEVENT
DTSTAMP:20260424T123754Z
DTSTART:20221004T010000Z
DTEND:20221004T030000Z
TRANSP:TRANSPARENT
PRIORITY:0
SUMMARY:Football JV Sandia at Del Norte
LOCATION:Milne Stadium
DESCRIPTION:Groups:\nSandia High Football JV\nDel Norte High Football JV\n
 \nSchools:\nAPS Athletic Department\nSandia High\nDel Norte High\n\nLocati
 on:\nMilne Stadium\n\n
URL;VALUE=URI:http://shs.albuquerquenmus.tandem.co/index.php?type=view&act
 ion=event&id=101540
CREATED:20220323T213654Z
LAST-MODIFIED:20220323T213654Z
UID:event-101540-albuquerquenmus@intand.com
END:VEVENT
END:VCALENDAR
