BEGIN:VCALENDAR
VERSION:2.0
PRODID:-//Intand Corporation//Tandem//EN
METHOD:PUBLISH
BEGIN:VEVENT
DTSTAMP:20260424T123533Z
DTSTART:20220926T221500Z
DTEND:20220927T003000Z
TRANSP:TRANSPARENT
PRIORITY:0
SUMMARY:Football JV Valley at Albuquerque High
LOCATION:Milne Stadium
DESCRIPTION:Groups:\nValley High Football JV\nAlbuquerque High Football JV
 \n\nSchools:\nAPS Athletic Department\nValley High\nAlbuquerque High\n\nLo
 cation:\nMilne Stadium\n\n
URL;VALUE=URI:http://shs.albuquerquenmus.tandem.co/index.php?type=view&act
 ion=event&id=101528
CREATED:20220323T205730Z
LAST-MODIFIED:20220323T205730Z
UID:event-101528-albuquerquenmus@intand.com
END:VEVENT
END:VCALENDAR
