BEGIN:VCALENDAR
VERSION:2.0
PRODID:-//Intand Corporation//Tandem//EN
METHOD:PUBLISH
BEGIN:VEVENT
DTSTAMP:20260424T123951Z
DTSTART:20220920T223000Z
DTEND:20220921T004500Z
TRANSP:TRANSPARENT
PRIORITY:0
SUMMARY:Football C Team West Mesa at La Cueva
LOCATION:Wilson Stadium
DESCRIPTION:Groups:\nWest Mesa High Football C-Team\nLa Cueva High Footbal
 l C-Team\n\nSchools:\nAPS Athletic Department\nLa Cueva High\nWest Mesa Hi
 gh\n\nLocation:\nWilson Stadium\n\n
URL;VALUE=URI:http://shs.albuquerquenmus.tandem.co/index.php?type=view&act
 ion=event&id=101523
CREATED:20220323T204031Z
LAST-MODIFIED:20220512T203934Z
UID:event-101523-albuquerquenmus@intand.com
END:VEVENT
END:VCALENDAR
