BEGIN:VCALENDAR
VERSION:2.0
PRODID:-//Intand Corporation//Tandem//EN
METHOD:PUBLISH
BEGIN:VEVENT
DTSTAMP:20260424T123824Z
DTSTART:20220913T010000Z
DTEND:20220913T033000Z
TRANSP:TRANSPARENT
PRIORITY:0
SUMMARY:Football JV Valley at La Cueva
LOCATION:Wilson Stadium
DESCRIPTION:Groups:\nLa Cueva High Football JV\nValley High Football JV\n\
 nSchools:\nAPS Athletic Department\nLa Cueva High\nValley High\n\nLocation
 :\nWilson Stadium\n\n
URL;VALUE=URI:http://shs.albuquerquenmus.tandem.co/index.php?type=view&act
 ion=event&id=101510
CREATED:20220323T200519Z
LAST-MODIFIED:20220323T200519Z
UID:event-101510-albuquerquenmus@intand.com
END:VEVENT
END:VCALENDAR
