BEGIN:VCALENDAR
VERSION:2.0
PRODID:-//Intand Corporation//Tandem//EN
METHOD:PUBLISH
BEGIN:VEVENT
DTSTAMP:20260424T123701Z
DTSTART:20220912T221500Z
DTEND:20220913T003000Z
TRANSP:TRANSPARENT
PRIORITY:0
SUMMARY:Football JV Eldorado at Albuquerque High
LOCATION:Milne Stadium
DESCRIPTION:Groups:\nEldorado High Football JV\nAlbuquerque High Football 
 JV\n\nSchools:\nAPS Athletic Department\nAlbuquerque High\nEldorado High\n
 \nLocation:\nMilne Stadium\n\n
URL;VALUE=URI:http://shs.albuquerquenmus.tandem.co/index.php?type=view&act
 ion=event&id=101505
CREATED:20220323T195841Z
LAST-MODIFIED:20220323T195841Z
UID:event-101505-albuquerquenmus@intand.com
END:VEVENT
END:VCALENDAR
